BEGIN:VCALENDAR
VERSION:2.0
PRODID:-//City Church - ECPv6.6.4//NONSGML v1.0//EN
CALSCALE:GREGORIAN
METHOD:PUBLISH
X-ORIGINAL-URL:https://demo.digitalchurch.app
X-WR-CALDESC:Events for City Church
REFRESH-INTERVAL;VALUE=DURATION:PT1H
X-Robots-Tag:noindex
X-PUBLISHED-TTL:PT1H
BEGIN:VTIMEZONE
TZID:America/New_York
BEGIN:DAYLIGHT
TZOFFSETFROM:-0500
TZOFFSETTO:-0400
TZNAME:EDT
DTSTART:20280312T070000
END:DAYLIGHT
BEGIN:STANDARD
TZOFFSETFROM:-0400
TZOFFSETTO:-0500
TZNAME:EST
DTSTART:20281105T060000
END:STANDARD
END:VTIMEZONE
BEGIN:VEVENT
DTSTART;TZID=America/New_York:20281008T113000
DTEND;TZID=America/New_York:20281008T123000
DTSTAMP:20260425T123736
CREATED:20190814T194727Z
LAST-MODIFIED:20190814T194727Z
UID:10000913-1854617400-1854621000@demo.digitalchurch.app
SUMMARY:Growth Track Session 2
DESCRIPTION:
URL:https://demo.digitalchurch.app/event/growth-track-session-2/2028-10-08/
LOCATION:Meeting Room 101
END:VEVENT
END:VCALENDAR