BEGIN:VCALENDAR
VERSION:2.0
PRODID:-//City Church - ECPv6.6.4//NONSGML v1.0//EN
CALSCALE:GREGORIAN
METHOD:PUBLISH
X-ORIGINAL-URL:https://demo.digitalchurch.app
X-WR-CALDESC:Events for City Church
REFRESH-INTERVAL;VALUE=DURATION:PT1H
X-Robots-Tag:noindex
X-PUBLISHED-TTL:PT1H
BEGIN:VTIMEZONE
TZID:America/New_York
BEGIN:DAYLIGHT
TZOFFSETFROM:-0500
TZOFFSETTO:-0400
TZNAME:EDT
DTSTART:20270314T070000
END:DAYLIGHT
BEGIN:STANDARD
TZOFFSETFROM:-0400
TZOFFSETTO:-0500
TZNAME:EST
DTSTART:20271107T060000
END:STANDARD
BEGIN:DAYLIGHT
TZOFFSETFROM:-0500
TZOFFSETTO:-0400
TZNAME:EDT
DTSTART:20280312T070000
END:DAYLIGHT
BEGIN:STANDARD
TZOFFSETFROM:-0400
TZOFFSETTO:-0500
TZNAME:EST
DTSTART:20281105T060000
END:STANDARD
END:VTIMEZONE
BEGIN:VEVENT
DTSTART;TZID=America/New_York:20270711T113000
DTEND;TZID=America/New_York:20270711T123000
DTSTAMP:20260425T111054
CREATED:20190814T194727Z
LAST-MODIFIED:20190814T194727Z
UID:10000898-1815305400-1815309000@demo.digitalchurch.app
SUMMARY:Growth Track Session 2
DESCRIPTION:
URL:https://demo.digitalchurch.app/event/growth-track-session-2/2027-07-11/
LOCATION:Meeting Room 101
END:VEVENT
BEGIN:VEVENT
DTSTART;TZID=America/New_York:20270801T113000
DTEND;TZID=America/New_York:20270801T123000
DTSTAMP:20260425T111054
CREATED:20190814T194223Z
LAST-MODIFIED:20190814T195039Z
UID:10000789-1817119800-1817123400@demo.digitalchurch.app
SUMMARY:Growth Track Session 1
DESCRIPTION:
URL:https://demo.digitalchurch.app/event/growth-track-session-1/2027-08-01/
LOCATION:Meeting Room 101
END:VEVENT
BEGIN:VEVENT
DTSTART;TZID=America/New_York:20270808T113000
DTEND;TZID=America/New_York:20270808T123000
DTSTAMP:20260425T111054
CREATED:20190814T194727Z
LAST-MODIFIED:20190814T194727Z
UID:10000899-1817724600-1817728200@demo.digitalchurch.app
SUMMARY:Growth Track Session 2
DESCRIPTION:
URL:https://demo.digitalchurch.app/event/growth-track-session-2/2027-08-08/
LOCATION:Meeting Room 101
END:VEVENT
BEGIN:VEVENT
DTSTART;TZID=America/New_York:20270905T113000
DTEND;TZID=America/New_York:20270905T123000
DTSTAMP:20260425T111054
CREATED:20190814T194223Z
LAST-MODIFIED:20190814T195039Z
UID:10000790-1820143800-1820147400@demo.digitalchurch.app
SUMMARY:Growth Track Session 1
DESCRIPTION:
URL:https://demo.digitalchurch.app/event/growth-track-session-1/2027-09-05/
LOCATION:Meeting Room 101
END:VEVENT
BEGIN:VEVENT
DTSTART;TZID=America/New_York:20270912T113000
DTEND;TZID=America/New_York:20270912T123000
DTSTAMP:20260425T111054
CREATED:20190814T194727Z
LAST-MODIFIED:20190814T194727Z
UID:10000900-1820748600-1820752200@demo.digitalchurch.app
SUMMARY:Growth Track Session 2
DESCRIPTION:
URL:https://demo.digitalchurch.app/event/growth-track-session-2/2027-09-12/
LOCATION:Meeting Room 101
END:VEVENT
BEGIN:VEVENT
DTSTART;TZID=America/New_York:20271003T113000
DTEND;TZID=America/New_York:20271003T123000
DTSTAMP:20260425T111054
CREATED:20190814T194223Z
LAST-MODIFIED:20190814T195039Z
UID:10000791-1822563000-1822566600@demo.digitalchurch.app
SUMMARY:Growth Track Session 1
DESCRIPTION:
URL:https://demo.digitalchurch.app/event/growth-track-session-1/2027-10-03/
LOCATION:Meeting Room 101
END:VEVENT
BEGIN:VEVENT
DTSTART;TZID=America/New_York:20271010T113000
DTEND;TZID=America/New_York:20271010T123000
DTSTAMP:20260425T111054
CREATED:20190814T194727Z
LAST-MODIFIED:20190814T194727Z
UID:10000901-1823167800-1823171400@demo.digitalchurch.app
SUMMARY:Growth Track Session 2
DESCRIPTION:
URL:https://demo.digitalchurch.app/event/growth-track-session-2/2027-10-10/
LOCATION:Meeting Room 101
END:VEVENT
BEGIN:VEVENT
DTSTART;TZID=America/New_York:20271107T113000
DTEND;TZID=America/New_York:20271107T123000
DTSTAMP:20260425T111054
CREATED:20190814T194223Z
LAST-MODIFIED:20190814T195039Z
UID:10000792-1825587000-1825590600@demo.digitalchurch.app
SUMMARY:Growth Track Session 1
DESCRIPTION:
URL:https://demo.digitalchurch.app/event/growth-track-session-1/2027-11-07/
LOCATION:Meeting Room 101
END:VEVENT
BEGIN:VEVENT
DTSTART;TZID=America/New_York:20271114T113000
DTEND;TZID=America/New_York:20271114T123000
DTSTAMP:20260425T111054
CREATED:20190814T194727Z
LAST-MODIFIED:20190814T194727Z
UID:10000902-1826191800-1826195400@demo.digitalchurch.app
SUMMARY:Growth Track Session 2
DESCRIPTION:
URL:https://demo.digitalchurch.app/event/growth-track-session-2/2027-11-14/
LOCATION:Meeting Room 101
END:VEVENT
BEGIN:VEVENT
DTSTART;TZID=America/New_York:20271205T113000
DTEND;TZID=America/New_York:20271205T123000
DTSTAMP:20260425T111054
CREATED:20190814T194223Z
LAST-MODIFIED:20190814T195039Z
UID:10000793-1828006200-1828009800@demo.digitalchurch.app
SUMMARY:Growth Track Session 1
DESCRIPTION:
URL:https://demo.digitalchurch.app/event/growth-track-session-1/2027-12-05/
LOCATION:Meeting Room 101
END:VEVENT
BEGIN:VEVENT
DTSTART;TZID=America/New_York:20271212T113000
DTEND;TZID=America/New_York:20271212T123000
DTSTAMP:20260425T111054
CREATED:20190814T194727Z
LAST-MODIFIED:20190814T194727Z
UID:10000903-1828611000-1828614600@demo.digitalchurch.app
SUMMARY:Growth Track Session 2
DESCRIPTION:
URL:https://demo.digitalchurch.app/event/growth-track-session-2/2027-12-12/
LOCATION:Meeting Room 101
END:VEVENT
BEGIN:VEVENT
DTSTART;TZID=America/New_York:20280102T113000
DTEND;TZID=America/New_York:20280102T123000
DTSTAMP:20260425T111054
CREATED:20190814T194223Z
LAST-MODIFIED:20190814T195039Z
UID:10000794-1830425400-1830429000@demo.digitalchurch.app
SUMMARY:Growth Track Session 1
DESCRIPTION:
URL:https://demo.digitalchurch.app/event/growth-track-session-1/2028-01-02/
LOCATION:Meeting Room 101
END:VEVENT
BEGIN:VEVENT
DTSTART;TZID=America/New_York:20280109T113000
DTEND;TZID=America/New_York:20280109T123000
DTSTAMP:20260425T111054
CREATED:20190814T194727Z
LAST-MODIFIED:20190814T194727Z
UID:10000904-1831030200-1831033800@demo.digitalchurch.app
SUMMARY:Growth Track Session 2
DESCRIPTION:
URL:https://demo.digitalchurch.app/event/growth-track-session-2/2028-01-09/
LOCATION:Meeting Room 101
END:VEVENT
BEGIN:VEVENT
DTSTART;TZID=America/New_York:20280206T113000
DTEND;TZID=America/New_York:20280206T123000
DTSTAMP:20260425T111054
CREATED:20190814T194223Z
LAST-MODIFIED:20190814T195039Z
UID:10000795-1833449400-1833453000@demo.digitalchurch.app
SUMMARY:Growth Track Session 1
DESCRIPTION:
URL:https://demo.digitalchurch.app/event/growth-track-session-1/2028-02-06/
LOCATION:Meeting Room 101
END:VEVENT
BEGIN:VEVENT
DTSTART;TZID=America/New_York:20280213T113000
DTEND;TZID=America/New_York:20280213T123000
DTSTAMP:20260425T111054
CREATED:20190814T194727Z
LAST-MODIFIED:20190814T194727Z
UID:10000905-1834054200-1834057800@demo.digitalchurch.app
SUMMARY:Growth Track Session 2
DESCRIPTION:
URL:https://demo.digitalchurch.app/event/growth-track-session-2/2028-02-13/
LOCATION:Meeting Room 101
END:VEVENT
BEGIN:VEVENT
DTSTART;TZID=America/New_York:20280305T113000
DTEND;TZID=America/New_York:20280305T123000
DTSTAMP:20260425T111054
CREATED:20190814T194223Z
LAST-MODIFIED:20190814T195039Z
UID:10000796-1835868600-1835872200@demo.digitalchurch.app
SUMMARY:Growth Track Session 1
DESCRIPTION:
URL:https://demo.digitalchurch.app/event/growth-track-session-1/2028-03-05/
LOCATION:Meeting Room 101
END:VEVENT
BEGIN:VEVENT
DTSTART;TZID=America/New_York:20280312T113000
DTEND;TZID=America/New_York:20280312T123000
DTSTAMP:20260425T111054
CREATED:20190814T194727Z
LAST-MODIFIED:20190814T194727Z
UID:10000906-1836473400-1836477000@demo.digitalchurch.app
SUMMARY:Growth Track Session 2
DESCRIPTION:
URL:https://demo.digitalchurch.app/event/growth-track-session-2/2028-03-12/
LOCATION:Meeting Room 101
END:VEVENT
BEGIN:VEVENT
DTSTART;TZID=America/New_York:20280402T113000
DTEND;TZID=America/New_York:20280402T123000
DTSTAMP:20260425T111054
CREATED:20190814T194223Z
LAST-MODIFIED:20190814T195039Z
UID:10000797-1838287800-1838291400@demo.digitalchurch.app
SUMMARY:Growth Track Session 1
DESCRIPTION:
URL:https://demo.digitalchurch.app/event/growth-track-session-1/2028-04-02/
LOCATION:Meeting Room 101
END:VEVENT
BEGIN:VEVENT
DTSTART;TZID=America/New_York:20280409T113000
DTEND;TZID=America/New_York:20280409T123000
DTSTAMP:20260425T111054
CREATED:20190814T194727Z
LAST-MODIFIED:20190814T194727Z
UID:10000907-1838892600-1838896200@demo.digitalchurch.app
SUMMARY:Growth Track Session 2
DESCRIPTION:
URL:https://demo.digitalchurch.app/event/growth-track-session-2/2028-04-09/
LOCATION:Meeting Room 101
END:VEVENT
BEGIN:VEVENT
DTSTART;TZID=America/New_York:20280507T113000
DTEND;TZID=America/New_York:20280507T123000
DTSTAMP:20260425T111054
CREATED:20190814T194223Z
LAST-MODIFIED:20190814T195039Z
UID:10000798-1841311800-1841315400@demo.digitalchurch.app
SUMMARY:Growth Track Session 1
DESCRIPTION:
URL:https://demo.digitalchurch.app/event/growth-track-session-1/2028-05-07/
LOCATION:Meeting Room 101
END:VEVENT
BEGIN:VEVENT
DTSTART;TZID=America/New_York:20280514T113000
DTEND;TZID=America/New_York:20280514T123000
DTSTAMP:20260425T111054
CREATED:20190814T194727Z
LAST-MODIFIED:20190814T194727Z
UID:10000908-1841916600-1841920200@demo.digitalchurch.app
SUMMARY:Growth Track Session 2
DESCRIPTION:
URL:https://demo.digitalchurch.app/event/growth-track-session-2/2028-05-14/
LOCATION:Meeting Room 101
END:VEVENT
BEGIN:VEVENT
DTSTART;TZID=America/New_York:20280604T113000
DTEND;TZID=America/New_York:20280604T123000
DTSTAMP:20260425T111054
CREATED:20190814T194223Z
LAST-MODIFIED:20190814T195039Z
UID:10000799-1843731000-1843734600@demo.digitalchurch.app
SUMMARY:Growth Track Session 1
DESCRIPTION:
URL:https://demo.digitalchurch.app/event/growth-track-session-1/2028-06-04/
LOCATION:Meeting Room 101
END:VEVENT
BEGIN:VEVENT
DTSTART;TZID=America/New_York:20280611T113000
DTEND;TZID=America/New_York:20280611T123000
DTSTAMP:20260425T111054
CREATED:20190814T194727Z
LAST-MODIFIED:20190814T194727Z
UID:10000909-1844335800-1844339400@demo.digitalchurch.app
SUMMARY:Growth Track Session 2
DESCRIPTION:
URL:https://demo.digitalchurch.app/event/growth-track-session-2/2028-06-11/
LOCATION:Meeting Room 101
END:VEVENT
BEGIN:VEVENT
DTSTART;TZID=America/New_York:20280702T113000
DTEND;TZID=America/New_York:20280702T123000
DTSTAMP:20260425T111054
CREATED:20190814T194223Z
LAST-MODIFIED:20190814T195039Z
UID:10000800-1846150200-1846153800@demo.digitalchurch.app
SUMMARY:Growth Track Session 1
DESCRIPTION:
URL:https://demo.digitalchurch.app/event/growth-track-session-1/2028-07-02/
LOCATION:Meeting Room 101
END:VEVENT
BEGIN:VEVENT
DTSTART;TZID=America/New_York:20280709T113000
DTEND;TZID=America/New_York:20280709T123000
DTSTAMP:20260425T111054
CREATED:20190814T194727Z
LAST-MODIFIED:20190814T194727Z
UID:10000910-1846755000-1846758600@demo.digitalchurch.app
SUMMARY:Growth Track Session 2
DESCRIPTION:
URL:https://demo.digitalchurch.app/event/growth-track-session-2/2028-07-09/
LOCATION:Meeting Room 101
END:VEVENT
BEGIN:VEVENT
DTSTART;TZID=America/New_York:20280806T113000
DTEND;TZID=America/New_York:20280806T123000
DTSTAMP:20260425T111054
CREATED:20190814T194223Z
LAST-MODIFIED:20190814T195039Z
UID:10000801-1849174200-1849177800@demo.digitalchurch.app
SUMMARY:Growth Track Session 1
DESCRIPTION:
URL:https://demo.digitalchurch.app/event/growth-track-session-1/2028-08-06/
LOCATION:Meeting Room 101
END:VEVENT
BEGIN:VEVENT
DTSTART;TZID=America/New_York:20280813T113000
DTEND;TZID=America/New_York:20280813T123000
DTSTAMP:20260425T111054
CREATED:20190814T194727Z
LAST-MODIFIED:20190814T194727Z
UID:10000911-1849779000-1849782600@demo.digitalchurch.app
SUMMARY:Growth Track Session 2
DESCRIPTION:
URL:https://demo.digitalchurch.app/event/growth-track-session-2/2028-08-13/
LOCATION:Meeting Room 101
END:VEVENT
BEGIN:VEVENT
DTSTART;TZID=America/New_York:20280903T113000
DTEND;TZID=America/New_York:20280903T123000
DTSTAMP:20260425T111054
CREATED:20190814T194223Z
LAST-MODIFIED:20190814T195039Z
UID:10000802-1851593400-1851597000@demo.digitalchurch.app
SUMMARY:Growth Track Session 1
DESCRIPTION:
URL:https://demo.digitalchurch.app/event/growth-track-session-1/2028-09-03/
LOCATION:Meeting Room 101
END:VEVENT
BEGIN:VEVENT
DTSTART;TZID=America/New_York:20280910T113000
DTEND;TZID=America/New_York:20280910T123000
DTSTAMP:20260425T111054
CREATED:20190814T194727Z
LAST-MODIFIED:20190814T194727Z
UID:10000912-1852198200-1852201800@demo.digitalchurch.app
SUMMARY:Growth Track Session 2
DESCRIPTION:
URL:https://demo.digitalchurch.app/event/growth-track-session-2/2028-09-10/
LOCATION:Meeting Room 101
END:VEVENT
BEGIN:VEVENT
DTSTART;TZID=America/New_York:20281001T113000
DTEND;TZID=America/New_York:20281001T123000
DTSTAMP:20260425T111054
CREATED:20190814T194223Z
LAST-MODIFIED:20190814T195039Z
UID:10000803-1854012600-1854016200@demo.digitalchurch.app
SUMMARY:Growth Track Session 1
DESCRIPTION:
URL:https://demo.digitalchurch.app/event/growth-track-session-1/2028-10-01/
LOCATION:Meeting Room 101
END:VEVENT
END:VCALENDAR